Package: MetaNeighbor Version: 1.24.0 Command: rm -rf MetaNeighbor.buildbin-libdir && mkdir MetaNeighbor.buildbin-libdir && /Users/biocbuild/BBS/utils/build-universal.sh MetaNeighbor_1.24.0.tar.gz /Library/Frameworks/R.framework/Resources/bin/R MetaNeighbor.buildbin-libdir StartedAt: 2024-10-18 19:20:16 -0400 (Fri, 18 Oct 2024) EndedAt: 2024-10-18 19:20:25 -0400 (Fri, 18 Oct 2024) EllapsedTime: 9.2 seconds RetCode: 0 Status: OK PackageFile: MetaNeighbor_1.24.0.tgz PackageFileSize: 4.143 MiB