Package: MetaNeighbor Version: 1.24.0 Command: /Library/Frameworks/R.framework/Resources/bin/R CMD INSTALL MetaNeighbor StartedAt: 2024-10-16 16:05:37 -0400 (Wed, 16 Oct 2024) EndedAt: 2024-10-16 16:05:44 -0400 (Wed, 16 Oct 2024) EllapsedTime: 6.9 seconds RetCode: 0 Status: OK