Package: MetaNeighbor Version: 1.24.0 Command: /Library/Frameworks/R.framework/Resources/bin/R CMD INSTALL MetaNeighbor StartedAt: 2024-06-09 15:25:08 -0400 (Sun, 09 Jun 2024) EndedAt: 2024-06-09 15:25:15 -0400 (Sun, 09 Jun 2024) EllapsedTime: 6.9 seconds RetCode: 0 Status: OK