Package: MetaNeighbor Version: 1.24.0 Command: /home/biocbuild/R/R-beta-2024-04-15_r86425/bin/R CMD build --keep-empty-dirs --no-resave-data MetaNeighbor StartedAt: 2024-05-09 01:28:46 -0000 (Thu, 09 May 2024) EndedAt: 2024-05-09 01:33:01 -0000 (Thu, 09 May 2024) EllapsedTime: 254.3 seconds RetCode: 0 Status: OK PackageFile: MetaNeighbor_1.24.0.tar.gz PackageFileSize: 3.184 MiB