Package: MetaNeighbor Version: 1.24.0 Command: /home/biocbuild/R/R-beta-2024-04-15_r86425/bin/R CMD check --install=check:MetaNeighbor.install-out.txt --library=/home/biocbuild/R/R-beta-2024-04-15_r86425/site-library --no-vignettes --timings MetaNeighbor_1.24.0.tar.gz StartedAt: 2024-05-09 09:11:43 -0000 (Thu, 09 May 2024) EndedAt: 2024-05-09 09:25:02 -0000 (Thu, 09 May 2024) EllapsedTime: 798.3 seconds RetCode: 0 Status: OK CheckDir: MetaNeighbor.Rcheck Warnings: 0