Package: MetaNeighbor Version: 1.24.0 Command: rm -rf MetaNeighbor.buildbin-libdir && mkdir MetaNeighbor.buildbin-libdir && /Users/biocbuild/BBS/utils/build-universal.sh MetaNeighbor_1.24.0.tar.gz /Library/Frameworks/R.framework/Resources/bin/R MetaNeighbor.buildbin-libdir StartedAt: 2024-06-10 00:26:10 -0400 (Mon, 10 Jun 2024) EndedAt: 2024-06-10 00:26:18 -0400 (Mon, 10 Jun 2024) EllapsedTime: 7.8 seconds RetCode: 0 Status: OK PackageFile: MetaNeighbor_1.24.0.tgz PackageFileSize: 4.144 MiB