Package: MetaNeighbor Version: 1.24.0 Command: rm -rf MetaNeighbor.buildbin-libdir && mkdir MetaNeighbor.buildbin-libdir && F:\biocbuild\bbs-3.19-bioc\R\bin\R.exe CMD INSTALL --build --library=MetaNeighbor.buildbin-libdir MetaNeighbor_1.24.0.tar.gz StartedAt: 2024-06-27 08:28:49 -0400 (Thu, 27 Jun 2024) EndedAt: 2024-06-27 08:29:14 -0400 (Thu, 27 Jun 2024) EllapsedTime: 24.6 seconds RetCode: 0 Status: OK PackageFile: MetaNeighbor_1.24.0.zip PackageFileSize: 4.171 MiB