Package: MetaNeighbor Version: 1.24.0 Command: chmod a+r MetaNeighbor -R && F:\biocbuild\bbs-3.19-bioc\R\bin\R.exe CMD build --keep-empty-dirs --no-resave-data MetaNeighbor StartedAt: 2024-06-26 19:56:00 -0400 (Wed, 26 Jun 2024) EndedAt: 2024-06-26 19:56:52 -0400 (Wed, 26 Jun 2024) EllapsedTime: 52.0 seconds RetCode: 0 Status: OK PackageFile: MetaNeighbor_1.24.0.tar.gz PackageFileSize: 3.197 MiB