Package: MetaNeighbor Version: 1.24.0 Command: rm -rf MetaNeighbor.buildbin-libdir && mkdir MetaNeighbor.buildbin-libdir && E:\biocbuild\bbs-3.19-bioc\R\bin\R.exe CMD INSTALL --build --library=MetaNeighbor.buildbin-libdir MetaNeighbor_1.24.0.tar.gz StartedAt: 2024-10-17 08:06:34 -0400 (Thu, 17 Oct 2024) EndedAt: 2024-10-17 08:06:55 -0400 (Thu, 17 Oct 2024) EllapsedTime: 21.0 seconds RetCode: 0 Status: OK PackageFile: MetaNeighbor_1.24.0.zip PackageFileSize: 4.172 MiB