Package: MetaNeighbor Version: 1.24.0 Command: E:\biocbuild\bbs-3.19-bioc\R\bin\R.exe CMD INSTALL MetaNeighbor StartedAt: 2024-10-16 16:24:39 -0400 (Wed, 16 Oct 2024) EndedAt: 2024-10-16 16:24:59 -0400 (Wed, 16 Oct 2024) EllapsedTime: 20.2 seconds RetCode: 0 Status: OK