Package: MetaboSignal Version: 1.34.0 Command: rm -rf MetaboSignal.buildbin-libdir && mkdir MetaboSignal.buildbin-libdir && /Users/biocbuild/BBS/utils/build-universal.sh MetaboSignal_1.34.0.tar.gz /Library/Frameworks/R.framework/Resources/bin/R MetaboSignal.buildbin-libdir StartedAt: 2024-06-11 11:57:43 -0400 (Tue, 11 Jun 2024) EndedAt: 2024-06-11 11:59:32 -0400 (Tue, 11 Jun 2024) EllapsedTime: 109.6 seconds RetCode: 0 Status: OK PackageFile: MetaboSignal_1.34.0.tgz PackageFileSize: 2.664 MiB