Package: MetaboSignal Version: 1.34.0 Command: /home/biocbuild/R/R-beta-2024-04-15_r86425/bin/R CMD build --keep-empty-dirs --no-resave-data MetaboSignal StartedAt: 2024-05-09 01:27:49 -0000 (Thu, 09 May 2024) EndedAt: 2024-05-09 01:29:45 -0000 (Thu, 09 May 2024) EllapsedTime: 116.2 seconds RetCode: 0 Status: OK PackageFile: MetaboSignal_1.34.0.tar.gz PackageFileSize: 2.137 MiB