Package: MethReg Version: 1.14.0 Command: rm -rf MethReg.buildbin-libdir && mkdir MethReg.buildbin-libdir && /Users/biocbuild/BBS/utils/build-universal.sh MethReg_1.14.0.tar.gz /Library/Frameworks/R.framework/Resources/bin/R MethReg.buildbin-libdir StartedAt: 2024-10-18 19:21:22 -0400 (Fri, 18 Oct 2024) EndedAt: 2024-10-18 19:22:39 -0400 (Fri, 18 Oct 2024) EllapsedTime: 77.3 seconds RetCode: 0 Status: OK PackageFile: MethReg_1.14.0.tgz PackageFileSize: 4.488 MiB