Package: MethReg Version: 1.14.0 Command: /Library/Frameworks/R.framework/Resources/bin/R CMD check --install=check:MethReg.install-out.txt --library=/Library/Frameworks/R.framework/Resources/library --no-vignettes --timings MethReg_1.14.0.tar.gz StartedAt: 2024-10-18 03:23:11 -0400 (Fri, 18 Oct 2024) EndedAt: 2024-10-18 03:32:15 -0400 (Fri, 18 Oct 2024) EllapsedTime: 544.1 seconds RetCode: 0 Status: OK CheckDir: MethReg.Rcheck Warnings: 0