Package: MethReg Version: 1.14.0 Command: rm -rf MethReg.buildbin-libdir && mkdir MethReg.buildbin-libdir && /Users/biocbuild/BBS/utils/build-universal.sh MethReg_1.14.0.tar.gz /Library/Frameworks/R.framework/Resources/bin/R MethReg.buildbin-libdir StartedAt: 2024-06-11 11:59:10 -0400 (Tue, 11 Jun 2024) EndedAt: 2024-06-11 12:00:58 -0400 (Tue, 11 Jun 2024) EllapsedTime: 108.1 seconds RetCode: 0 Status: OK PackageFile: MethReg_1.14.0.tgz PackageFileSize: 4.515 MiB