Package: MethReg Version: 1.14.0 Command: /Library/Frameworks/R.framework/Resources/bin/R CMD INSTALL MethReg StartedAt: 2024-06-09 17:36:28 -0400 (Sun, 09 Jun 2024) EndedAt: 2024-06-09 17:37:44 -0400 (Sun, 09 Jun 2024) EllapsedTime: 76.1 seconds RetCode: 0 Status: OK