Package: MethReg Version: 1.14.0 Command: /home/biocbuild/R/R-beta-2024-04-15_r86425/bin/R CMD build --keep-empty-dirs --no-resave-data MethReg StartedAt: 2024-05-09 01:31:04 -0000 (Thu, 09 May 2024) EndedAt: 2024-05-09 01:46:39 -0000 (Thu, 09 May 2024) EllapsedTime: 935.2 seconds RetCode: 0 Status: OK PackageFile: MethReg_1.14.0.tar.gz PackageFileSize: 4.314 MiB