Package: MethReg Version: 1.14.0 Command: /home/biocbuild/R/R-beta-2024-04-15_r86425/bin/R CMD INSTALL MethReg StartedAt: 2024-05-08 21:03:45 -0000 (Wed, 08 May 2024) EndedAt: 2024-05-08 21:04:54 -0000 (Wed, 08 May 2024) EllapsedTime: 69.3 seconds RetCode: 0 Status: OK