Package: MethReg Version: 1.14.0 Command: rm -rf MethReg.buildbin-libdir && mkdir MethReg.buildbin-libdir && /Users/biocbuild/BBS/utils/build-universal.sh MethReg_1.14.0.tar.gz /Library/Frameworks/R.framework/Resources/bin/R MethReg.buildbin-libdir StartedAt: 2024-06-10 00:26:21 -0400 (Mon, 10 Jun 2024) EndedAt: 2024-06-10 00:27:33 -0400 (Mon, 10 Jun 2024) EllapsedTime: 72.0 seconds RetCode: 0 Status: OK PackageFile: MethReg_1.14.0.tgz PackageFileSize: 4.514 MiB