Package: MethReg Version: 1.14.0 Command: /Library/Frameworks/R.framework/Resources/bin/R CMD build --keep-empty-dirs --no-resave-data MethReg StartedAt: 2024-06-09 17:12:44 -0400 (Sun, 09 Jun 2024) EndedAt: 2024-06-09 17:23:57 -0400 (Sun, 09 Jun 2024) EllapsedTime: 673.8 seconds RetCode: 0 Status: OK PackageFile: MethReg_1.14.0.tar.gz PackageFileSize: 5.384 MiB