Package: MethReg Version: 1.14.0 Command: /Library/Frameworks/R.framework/Resources/bin/R CMD check --install=check:MethReg.install-out.txt --library=/Library/Frameworks/R.framework/Resources/library --no-vignettes --timings MethReg_1.14.0.tar.gz StartedAt: 2024-06-09 21:25:21 -0400 (Sun, 09 Jun 2024) EndedAt: 2024-06-09 21:33:34 -0400 (Sun, 09 Jun 2024) EllapsedTime: 493.8 seconds RetCode: 0 Status: OK CheckDir: MethReg.Rcheck Warnings: 0