Package: MethReg Version: 1.14.0 Command: rm -rf MethReg.buildbin-libdir && mkdir MethReg.buildbin-libdir && /Users/biocbuild/BBS/utils/build-universal.sh MethReg_1.14.0.tar.gz /Library/Frameworks/R.framework/Resources/bin/R MethReg.buildbin-libdir StartedAt: 2024-10-17 16:33:25 -0400 (Thu, 17 Oct 2024) EndedAt: 2024-10-17 16:35:34 -0400 (Thu, 17 Oct 2024) EllapsedTime: 128.5 seconds RetCode: 0 Status: OK PackageFile: MethReg_1.14.0.tgz PackageFileSize: 4.488 MiB