Package: MethReg Version: 1.14.0 Command: /Library/Frameworks/R.framework/Resources/bin/R CMD build --keep-empty-dirs --no-resave-data MethReg StartedAt: 2024-10-16 20:43:37 -0400 (Wed, 16 Oct 2024) EndedAt: 2024-10-16 21:19:02 -0400 (Wed, 16 Oct 2024) EllapsedTime: 2124.6 seconds RetCode: 0 Status: OK PackageFile: MethReg_1.14.0.tar.gz PackageFileSize: 5.384 MiB