Package: MethReg Version: 1.14.0 Command: /home/biocbuild/bbs-3.19-bioc/R/bin/R CMD build --keep-empty-dirs --no-resave-data MethReg StartedAt: 2024-10-16 19:22:56 -0400 (Wed, 16 Oct 2024) EndedAt: 2024-10-16 19:31:49 -0400 (Wed, 16 Oct 2024) EllapsedTime: 532.9 seconds RetCode: 0 Status: OK PackageFile: MethReg_1.14.0.tar.gz PackageFileSize: 5.136 MiB