Package: MethReg Version: 1.14.0 Command: chmod a+r MethReg -R && F:\biocbuild\bbs-3.19-bioc\R\bin\R.exe CMD build --keep-empty-dirs --no-resave-data MethReg StartedAt: 2024-06-26 19:57:46 -0400 (Wed, 26 Jun 2024) EndedAt: 2024-06-26 20:10:13 -0400 (Wed, 26 Jun 2024) EllapsedTime: 747.0 seconds RetCode: 0 Status: OK PackageFile: MethReg_1.14.0.tar.gz PackageFileSize: 5.032 MiB