Package: MethReg Version: 1.14.0 Command: rm -rf MethReg.buildbin-libdir && mkdir MethReg.buildbin-libdir && E:\biocbuild\bbs-3.19-bioc\R\bin\R.exe CMD INSTALL --build --library=MethReg.buildbin-libdir MethReg_1.14.0.tar.gz StartedAt: 2024-10-17 08:06:59 -0400 (Thu, 17 Oct 2024) EndedAt: 2024-10-17 08:08:19 -0400 (Thu, 17 Oct 2024) EllapsedTime: 79.9 seconds RetCode: 0 Status: OK PackageFile: MethReg_1.14.0.zip PackageFileSize: 4.14 MiB