Package: MethylMix Version: 2.34.0 Command: rm -rf MethylMix.buildbin-libdir && mkdir MethylMix.buildbin-libdir && /Users/biocbuild/BBS/utils/build-universal.sh MethylMix_2.34.0.tar.gz /Library/Frameworks/R.framework/Resources/bin/R MethylMix.buildbin-libdir StartedAt: 2024-10-18 19:23:27 -0400 (Fri, 18 Oct 2024) EndedAt: 2024-10-18 19:23:41 -0400 (Fri, 18 Oct 2024) EllapsedTime: 14.5 seconds RetCode: 0 Status: OK PackageFile: MethylMix_2.34.0.tgz PackageFileSize: 3.027 MiB