Package: MethylMix Version: 2.34.0 Command: /Library/Frameworks/R.framework/Resources/bin/R CMD check --install=check:MethylMix.install-out.txt --library=/Library/Frameworks/R.framework/Resources/library --no-vignettes --timings MethylMix_2.34.0.tar.gz StartedAt: 2024-10-17 08:18:58 -0400 (Thu, 17 Oct 2024) EndedAt: 2024-10-17 08:23:40 -0400 (Thu, 17 Oct 2024) EllapsedTime: 281.9 seconds RetCode: 0 Status: OK CheckDir: MethylMix.Rcheck Warnings: 0