Package: MethylMix Version: 2.34.0 Command: /Library/Frameworks/R.framework/Resources/bin/R CMD INSTALL MethylMix StartedAt: 2024-10-16 16:12:13 -0400 (Wed, 16 Oct 2024) EndedAt: 2024-10-16 16:12:35 -0400 (Wed, 16 Oct 2024) EllapsedTime: 22.0 seconds RetCode: 0 Status: OK