Package: MethylMix Version: 2.34.0 Command: rm -rf MethylMix.buildbin-libdir && mkdir MethylMix.buildbin-libdir && E:\biocbuild\bbs-3.19-bioc\R\bin\R.exe CMD INSTALL --build --library=MethylMix.buildbin-libdir MethylMix_2.34.0.tar.gz StartedAt: 2024-10-17 08:07:16 -0400 (Thu, 17 Oct 2024) EndedAt: 2024-10-17 08:07:37 -0400 (Thu, 17 Oct 2024) EllapsedTime: 20.7 seconds RetCode: 0 Status: OK PackageFile: MethylMix_2.34.0.zip PackageFileSize: 2.922 MiB