Package: MethylMix Version: 2.34.0 Command: chmod a+r MethylMix -R && E:\biocbuild\bbs-3.19-bioc\R\bin\R.exe CMD build --keep-empty-dirs --no-resave-data MethylMix StartedAt: 2024-10-16 20:14:43 -0400 (Wed, 16 Oct 2024) EndedAt: 2024-10-16 20:15:23 -0400 (Wed, 16 Oct 2024) EllapsedTime: 40.3 seconds RetCode: 0 Status: OK PackageFile: MethylMix_2.34.0.tar.gz PackageFileSize: 2.575 MiB