Package: MethylMix Version: 2.34.0 Command: E:\biocbuild\bbs-3.19-bioc\R\bin\R.exe CMD INSTALL MethylMix StartedAt: 2024-10-16 16:53:02 -0400 (Wed, 16 Oct 2024) EndedAt: 2024-10-16 16:53:39 -0400 (Wed, 16 Oct 2024) EllapsedTime: 36.4 seconds RetCode: 0 Status: OK