Package: MiChip Version: 1.58.0 Command: /home/biocbuild/bbs-3.19-bioc/R/bin/R CMD build --keep-empty-dirs --no-resave-data MiChip StartedAt: 2024-10-16 19:27:26 -0400 (Wed, 16 Oct 2024) EndedAt: 2024-10-16 19:27:35 -0400 (Wed, 16 Oct 2024) EllapsedTime: 9.0 seconds RetCode: 0 Status: OK PackageFile: MiChip_1.58.0.tar.gz PackageFileSize: 536.6 KiB