Package: MiRaGE Version: 1.46.0 Command: rm -rf MiRaGE.buildbin-libdir && mkdir MiRaGE.buildbin-libdir && /Users/biocbuild/BBS/utils/build-universal.sh MiRaGE_1.46.0.tar.gz /Library/Frameworks/R.framework/Resources/bin/R MiRaGE.buildbin-libdir StartedAt: 2024-06-10 00:27:15 -0400 (Mon, 10 Jun 2024) EndedAt: 2024-06-10 00:27:34 -0400 (Mon, 10 Jun 2024) EllapsedTime: 19.1 seconds RetCode: 0 Status: OK PackageFile: MiRaGE_1.46.0.tgz PackageFileSize: 1.352 MiB