Package: MiRaGE Version: 1.46.0 Command: /Library/Frameworks/R.framework/Resources/bin/R CMD INSTALL MiRaGE StartedAt: 2024-06-09 15:10:26 -0400 (Sun, 09 Jun 2024) EndedAt: 2024-06-09 15:10:42 -0400 (Sun, 09 Jun 2024) EllapsedTime: 16.7 seconds RetCode: 0 Status: OK