Package: MiRaGE Version: 1.46.0 Command: /Library/Frameworks/R.framework/Resources/bin/R CMD INSTALL MiRaGE StartedAt: 2024-10-16 15:29:27 -0400 (Wed, 16 Oct 2024) EndedAt: 2024-10-16 15:29:58 -0400 (Wed, 16 Oct 2024) EllapsedTime: 31.1 seconds RetCode: 0 Status: OK