Package: MiRaGE Version: 1.46.0 Command: /home/biocbuild/bbs-3.19-bioc/R/bin/R CMD INSTALL MiRaGE StartedAt: 2024-10-16 16:02:19 -0400 (Wed, 16 Oct 2024) EndedAt: 2024-10-16 16:02:33 -0400 (Wed, 16 Oct 2024) EllapsedTime: 14.5 seconds RetCode: 0 Status: OK