Package: MiRaGE Version: 1.46.0 Command: E:\biocbuild\bbs-3.19-bioc\R\bin\R.exe CMD INSTALL MiRaGE StartedAt: 2024-10-16 16:16:05 -0400 (Wed, 16 Oct 2024) EndedAt: 2024-10-16 16:16:21 -0400 (Wed, 16 Oct 2024) EllapsedTime: 16.7 seconds RetCode: 0 Status: OK