Package: MicrobiotaProcess Version: 1.16.1 Command: /home/biocbuild/bbs-3.19-bioc/R/bin/R CMD check --install=check:MicrobiotaProcess.install-out.txt --library=/home/biocbuild/bbs-3.19-bioc/R/site-library --timings MicrobiotaProcess_1.16.1.tar.gz StartedAt: 2024-10-17 02:26:17 -0400 (Thu, 17 Oct 2024) EndedAt: 2024-10-17 02:33:02 -0400 (Thu, 17 Oct 2024) EllapsedTime: 404.7 seconds RetCode: 0 Status: OK CheckDir: MicrobiotaProcess.Rcheck Warnings: 0