Package: MicrobiotaProcess Version: 1.16.0 Command: F:\biocbuild\bbs-3.19-bioc\R\bin\R.exe CMD check --no-multiarch --install=check:MicrobiotaProcess.install-out.txt --library=F:\biocbuild\bbs-3.19-bioc\R\library --no-vignettes --timings MicrobiotaProcess_1.16.0.tar.gz StartedAt: 2024-06-27 03:37:41 -0400 (Thu, 27 Jun 2024) EndedAt: 2024-06-27 03:43:47 -0400 (Thu, 27 Jun 2024) EllapsedTime: 365.8 seconds RetCode: 0 Status: OK CheckDir: MicrobiotaProcess.Rcheck Warnings: 0