Package: MicrobiotaProcess Version: 1.16.1 Command: rm -rf MicrobiotaProcess.buildbin-libdir && mkdir MicrobiotaProcess.buildbin-libdir && E:\biocbuild\bbs-3.19-bioc\R\bin\R.exe CMD INSTALL --build --library=MicrobiotaProcess.buildbin-libdir MicrobiotaProcess_1.16.1.tar.gz StartedAt: 2024-10-17 08:08:17 -0400 (Thu, 17 Oct 2024) EndedAt: 2024-10-17 08:16:58 -0400 (Thu, 17 Oct 2024) EllapsedTime: 520.7 seconds RetCode: 0 Status: OK PackageFile: MicrobiotaProcess_1.16.1.zip PackageFileSize: 4.383 MiB