Package: MicrobiotaProcess Version: 1.16.1 Command: chmod a+r MicrobiotaProcess -R && E:\biocbuild\bbs-3.19-bioc\R\bin\R.exe CMD build --keep-empty-dirs --no-resave-data MicrobiotaProcess StartedAt: 2024-10-16 20:18:08 -0400 (Wed, 16 Oct 2024) EndedAt: 2024-10-16 20:22:10 -0400 (Wed, 16 Oct 2024) EllapsedTime: 241.9 seconds RetCode: 0 Status: OK PackageFile: MicrobiotaProcess_1.16.1.tar.gz PackageFileSize: 3.624 MiB