Package: MineICA Version: 1.44.0 Command: /Library/Frameworks/R.framework/Resources/bin/R CMD build --keep-empty-dirs --no-resave-data MineICA StartedAt: 2024-10-17 04:27:26 -0400 (Thu, 17 Oct 2024) EndedAt: 2024-10-17 04:29:36 -0400 (Thu, 17 Oct 2024) EllapsedTime: 130.4 seconds RetCode: 0 Status: OK PackageFile: MineICA_1.44.0.tar.gz PackageFileSize: 1.433 MiB