Package: MineICA Version: 1.44.0 Command: /Library/Frameworks/R.framework/Resources/bin/R CMD INSTALL MineICA StartedAt: 2024-10-16 18:44:48 -0400 (Wed, 16 Oct 2024) EndedAt: 2024-10-16 18:45:31 -0400 (Wed, 16 Oct 2024) EllapsedTime: 42.7 seconds RetCode: 0 Status: OK