Package: MineICA Version: 1.44.0 Command: /home/biocbuild/R/R-beta-2024-04-15_r86425/bin/R CMD check --install=check:MineICA.install-out.txt --library=/home/biocbuild/R/R-beta-2024-04-15_r86425/site-library --no-vignettes --timings MineICA_1.44.0.tar.gz StartedAt: 2024-05-09 09:26:58 -0000 (Thu, 09 May 2024) EndedAt: 2024-05-09 09:32:36 -0000 (Thu, 09 May 2024) EllapsedTime: 337.6 seconds RetCode: 0 Status: WARNINGS CheckDir: MineICA.Rcheck Warnings: 3