Package: MineICA Version: 1.44.0 Command: /home/biocbuild/bbs-3.19-bioc/R/bin/R CMD INSTALL MineICA StartedAt: 2024-10-16 16:45:32 -0400 (Wed, 16 Oct 2024) EndedAt: 2024-10-16 16:46:07 -0400 (Wed, 16 Oct 2024) EllapsedTime: 35.8 seconds RetCode: 0 Status: OK