Package: MineICA Version: 1.44.0 Command: rm -rf MineICA.buildbin-libdir && mkdir MineICA.buildbin-libdir && E:\biocbuild\bbs-3.19-bioc\R\bin\R.exe CMD INSTALL --build --library=MineICA.buildbin-libdir MineICA_1.44.0.tar.gz StartedAt: 2024-10-17 08:08:29 -0400 (Thu, 17 Oct 2024) EndedAt: 2024-10-17 08:10:09 -0400 (Thu, 17 Oct 2024) EllapsedTime: 99.3 seconds RetCode: 0 Status: OK PackageFile: MineICA_1.44.0.zip PackageFileSize: 2.191 MiB