Package: MineICA Version: 1.44.0 Command: E:\biocbuild\bbs-3.19-bioc\R\bin\R.exe CMD INSTALL MineICA StartedAt: 2024-10-16 17:20:23 -0400 (Wed, 16 Oct 2024) EndedAt: 2024-10-16 17:22:08 -0400 (Wed, 16 Oct 2024) EllapsedTime: 104.2 seconds RetCode: 0 Status: OK