Package: MobilityTransformR Version: 1.8.0 Maintainer: Liesa Salzer MaintainerEmail: liesa.salzer at helmholtz-muenchen.de git_url: https://git.bioconductor.org/packages/MobilityTransformR git_branch: RELEASE_3_19 git_last_commit: ef16930 git_last_commit_date: 2024-04-30 11:40:36 -0400 (Tue, 30 Apr 2024)