Package: MobilityTransformR Version: 1.8.0 Command: rm -rf MobilityTransformR.buildbin-libdir && mkdir MobilityTransformR.buildbin-libdir && /Users/biocbuild/BBS/utils/build-universal.sh MobilityTransformR_1.8.0.tar.gz /Library/Frameworks/R.framework/Resources/bin/R MobilityTransformR.buildbin-libdir StartedAt: 2024-10-17 16:37:43 -0400 (Thu, 17 Oct 2024) EndedAt: 2024-10-17 16:39:18 -0400 (Thu, 17 Oct 2024) EllapsedTime: 95.6 seconds RetCode: 0 Status: OK PackageFile: MobilityTransformR_1.8.0.tgz PackageFileSize: 412 KiB